BEGIN:VCALENDAR
VERSION:2.0
PRODID:-//BRAID UK - ECPv6.14.2//NONSGML v1.0//EN
CALSCALE:GREGORIAN
METHOD:PUBLISH
X-WR-CALNAME:BRAID UK
X-ORIGINAL-URL:https://braiduk.org
X-WR-CALDESC:Events for BRAID UK
REFRESH-INTERVAL;VALUE=DURATION:PT1H
X-Robots-Tag:noindex
X-PUBLISHED-TTL:PT1H
BEGIN:VTIMEZONE
TZID:UTC
BEGIN:STANDARD
TZOFFSETFROM:+0000
TZOFFSETTO:+0000
TZNAME:UTC
DTSTART:20260101T000000
END:STANDARD
END:VTIMEZONE
BEGIN:VEVENT
DTSTART;TZID=UTC:20260506T110000
DTEND;TZID=UTC:20260506T170000
DTSTAMP:20260423T195849
CREATED:20260423T154923Z
LAST-MODIFIED:20260423T154923Z
UID:4277-1778065200-1778086800@braiduk.org
SUMMARY:AI Futures Hack: Creating Radical Infrastructures
DESCRIPTION:Design alternative community-oriented AI infrastructures in a hackathon examining energy systems\, reparative models\, and DIY tech. \nWhat could the future of AI infrastructure look like? Inspired by critical African/AfroFuturisms\, Transfeminist futurology and piercing prophecies of CripTech\, the AfroFutures_UK collective\, in association with University of Sussex will host a day spent examining\, coding and hacking away to build community-oriented infrastructures of future AI. Part unconference\, part hackathon\, the day will be spent looking at the following strands: \n\n\n\n\nEnergy infrastructures – Creating solution architecture for technology that can give back what it receives\nReparations as requirement – Digging into ways that replenishment\, regeneration and liability impact should feed into AI system requirements whilst building to meet those criteria\nBricolage hardware – Repurposing old tech\, the unrecyclable\, and more to build the physical infrastructure to support AI alternatives\n\nIf you are interested in contributing to the preceding online design jams\, get in touch: afrofutures.uk@gmail.com. \nAI FUTURES HACK: CREATING RADICAL INFRASTRUCTURES is a special episode of the Sussex Digital Humanities Lab Digital Methods Accelerator programme\, it is supported by BRAID UK and AfroFutures_UK. \nThis event is free and open to all\, but registration is required. Refreshments will be provided. \nBook now
URL:https://braiduk.org/event/ai-futures-hack-creating-radical-infrastructures
LOCATION:Sussex Humanities Lab\, Falmer Hill\, Brighton\, BN1 9RH\, United Kingdom
ATTACH;FMTTYPE=image/jpeg:https://braiduk.org/wp-content/uploads/2026/04/AI-Futures-Hack.jpg
END:VEVENT
END:VCALENDAR